BEGIN:VCALENDAR
VERSION:2.0
PRODID:-//CT Humanities - ECPv6.15.17.1//NONSGML v1.0//EN
CALSCALE:GREGORIAN
METHOD:PUBLISH
X-ORIGINAL-URL:https://cthumanities.org
X-WR-CALDESC:Events for CT Humanities
REFRESH-INTERVAL;VALUE=DURATION:PT1H
X-Robots-Tag:noindex
X-PUBLISHED-TTL:PT1H
BEGIN:VTIMEZONE
TZID:America/New_York
BEGIN:DAYLIGHT
TZOFFSETFROM:-0500
TZOFFSETTO:-0400
TZNAME:EDT
DTSTART:20250309T070000
END:DAYLIGHT
BEGIN:STANDARD
TZOFFSETFROM:-0400
TZOFFSETTO:-0500
TZNAME:EST
DTSTART:20251102T060000
END:STANDARD
BEGIN:DAYLIGHT
TZOFFSETFROM:-0500
TZOFFSETTO:-0400
TZNAME:EDT
DTSTART:20260308T070000
END:DAYLIGHT
BEGIN:STANDARD
TZOFFSETFROM:-0400
TZOFFSETTO:-0500
TZNAME:EST
DTSTART:20261101T060000
END:STANDARD
BEGIN:DAYLIGHT
TZOFFSETFROM:-0500
TZOFFSETTO:-0400
TZNAME:EDT
DTSTART:20270314T070000
END:DAYLIGHT
BEGIN:STANDARD
TZOFFSETFROM:-0400
TZOFFSETTO:-0500
TZNAME:EST
DTSTART:20271107T060000
END:STANDARD
END:VTIMEZONE
BEGIN:VEVENT
DTSTART;TZID=America/New_York:20260520T173000
DTEND;TZID=America/New_York:20260520T183000
DTSTAMP:20260422T013206
CREATED:20260421T203408Z
LAST-MODIFIED:20260421T203408Z
UID:58172-1779298200-1779301800@cthumanities.org
SUMMARY:We Are Very Likely To Die: The Incredible True Story of the Sinking of the R/V Sea Surveyor
DESCRIPTION:On the night of January 7\, 1969\, the Research Vessel Sea Surveyor went down in a fierce winter gale\, with 50 mph winds and 15-foot waves. Twelve men aboard suddenly faced the grim reality of survival: crammed into a 15-person life raft in the middle of the Atlantic Ocean\, over 200 miles from the nearest land. \nJoin survivor Walter Banzhaf as he recounts the harrowing events of that night\, sharing what it was like to face near-certain death in freezing waters and how the crew endured the unimaginable. Learn about the Sea Surveyor\, her mission\, and the extraordinary experiences of the men who survived. \nThis gripping firsthand account has captivated audiences many times in recent years. An unforgettable tale of courage\, perseverance\, and the extraordinary challenges faced at sea. \nThis is a free program. All are welcome to attend. While registration is not required\, we encourage signing up to help us plan for seating and materials.
URL:https://cthumanities.org/event/we-are-very-likely-to-die-the-incredible-true-story-of-the-sinking-of-the-r-v-sea-surveyor/
LOCATION:Otis Library\, 261 Main Street\, Norwich\, 06360
CATEGORIES:Discussion,May 2026,Talks, Lectures, Presentations
ATTACH;FMTTYPE=image/png:https://cthumanities.org/wp-content/uploads/2026/04/verylikely.png
ORGANIZER;CN="Otis Library":MAILTO:kwall@otislibrarynorwich.org
END:VEVENT
END:VCALENDAR