BEGIN:VCALENDAR
VERSION:2.0
PRODID:-//CT Humanities - ECPv6.15.17.1//NONSGML v1.0//EN
CALSCALE:GREGORIAN
METHOD:PUBLISH
X-WR-CALNAME:CT Humanities
X-ORIGINAL-URL:https://cthumanities.org
X-WR-CALDESC:Events for CT Humanities
REFRESH-INTERVAL;VALUE=DURATION:PT1H
X-Robots-Tag:noindex
X-PUBLISHED-TTL:PT1H
BEGIN:VTIMEZONE
TZID:America/New_York
BEGIN:DAYLIGHT
TZOFFSETFROM:-0500
TZOFFSETTO:-0400
TZNAME:EDT
DTSTART:20250309T070000
END:DAYLIGHT
BEGIN:STANDARD
TZOFFSETFROM:-0400
TZOFFSETTO:-0500
TZNAME:EST
DTSTART:20251102T060000
END:STANDARD
BEGIN:DAYLIGHT
TZOFFSETFROM:-0500
TZOFFSETTO:-0400
TZNAME:EDT
DTSTART:20260308T070000
END:DAYLIGHT
BEGIN:STANDARD
TZOFFSETFROM:-0400
TZOFFSETTO:-0500
TZNAME:EST
DTSTART:20261101T060000
END:STANDARD
BEGIN:DAYLIGHT
TZOFFSETFROM:-0500
TZOFFSETTO:-0400
TZNAME:EDT
DTSTART:20270314T070000
END:DAYLIGHT
BEGIN:STANDARD
TZOFFSETFROM:-0400
TZOFFSETTO:-0500
TZNAME:EST
DTSTART:20271107T060000
END:STANDARD
END:VTIMEZONE
BEGIN:VEVENT
DTSTART;TZID=America/New_York:20260205T173000
DTEND;TZID=America/New_York:20260205T193000
DTSTAMP:20260422T050058
CREATED:20260120T221923Z
LAST-MODIFIED:20260121T183957Z
UID:56915-1770312600-1770319800@cthumanities.org
SUMMARY:‘Pizza: A Love Story’ Screening and Tour of ‘Pronounced Ah-Beetz’ Exhibit
DESCRIPTION:If you have somehow missed the documentary\, “Pizza: A Love Story\,” here’s a chance to attend a screening with  Filmmaker Gorman Bechard at the New Haven Museum\, on Thursday\, February 5\, 2026\, at 6 p.m. A curator’s tour of the“Pronounced Ah-Beetz” exhibit with co-curator Jason Bischoff-Wurstle will be offered at 5:30 p.m. A Q&A with Bechard and co-producers Dean Falcone\, and Colin M. Caplan will follow the screening. The film\, tour\, and Q&A are free with regular museum admission. Register here. \nIn the documentary\, Bechard tells the story of the evolution of this modern-day food staple\, which he claims is “the only pizza that can really be called ‘pizza.’” From the rusted wheels of Frank Pepe’s bread cart to the black charcoal on their fingertips\, visitors will journey from old-world Italy to present-day New Haven. \nAccording to Bechard\, the “Holy Trinity” of Pepe’s\, Sally’s\, and Modern serve as a cornerstone of New Haven’s Italian-American heritage and set the bar for this hallowed comfort food. “Pizza\, A Love Story” is not just a tale of three restaurants but of three families that have the power to polarize\, captivate\, and delight. \n“Pronounced Ah-Beetz” is co-curated by Bischoff-Wurstle\, director of photo archives at the New Haven Museum\, and Bechard\, Falcone\, and Caplan. The exhibit includes first-hand oral histories and pizza-related artifacts from personal collections\, video footage adapted from the documentary and photographs. \nThe exhibit’s title\, “Pronounced Ah-Beetz\,” comes from the way many people mispronounce the word apizza\, which originally grew out of the Italian la pizza. The exhibit will remain on view through October 2027.
URL:https://cthumanities.org/event/pizza-a-love-story-screening-and-tour-of-pronounced-ah-beetz-exhibit/
LOCATION:New Haven Museum\, 114 Whitney Ave\, New Haven\, CT\, 06510\, United States
CATEGORIES:Exhibitions, Tours & Openings,February 2026,Special Events
ATTACH;FMTTYPE=image/jpeg:https://cthumanities.org/wp-content/uploads/2026/01/615940478_1502712458521729_6497592887179117404_n.jpg
END:VEVENT
BEGIN:VEVENT
DTSTART;TZID=America/New_York:20260131T190000
DTEND;TZID=America/New_York:20260131T210000
DTSTAMP:20260422T050058
CREATED:20260107T144835Z
LAST-MODIFIED:20260107T144835Z
UID:56608-1769886000-1769893200@cthumanities.org
SUMMARY:Speak up Storytelling: Cheat Cheat Never Beat
DESCRIPTION:Join us to hear a cast of storytellers tell true stories of lived experiences\, all about pulling a fast one or being played for a fool. Shortcuts\, headstarts\, pulling strings\, and taking the easy way out. Traitors\, tricksters\, and dirty rotten scoundrels. Led by Matthew Dicks\, 45-time Moth StorySLAM champion and 6-time GrandSLAM champion. \nDoors open at 6 pm; come early to view our exhibitions. Performance starts at 7 pm. Snacks\, soft drinks\, and wine included! \nGet tickets to reserve your spot: \n$20 General Admission\n$15 Members\nFree for Connecticut Museum Member levels $150 and above
URL:https://cthumanities.org/event/speak-up-storytelling-cheat-cheat-never-beat/
LOCATION:Connecticut Museum of Culture and History\, 1 Elizabeth Street\, Hartford\, CT\, 06105\, United States
CATEGORIES:Activity,January 2026,Special Events
ATTACH;FMTTYPE=image/jpeg:https://cthumanities.org/wp-content/uploads/2026/01/126561-Speak-up-Storytelling-Cheat-Cheat-Never-Beat.jpg
ORGANIZER;CN="Connecticut Museum of Culture and History":MAILTO:kmazzacane@connecticutmuseum.org
END:VEVENT
BEGIN:VEVENT
DTSTART;TZID=America/New_York:20260124T190000
DTEND;TZID=America/New_York:20260124T210000
DTSTAMP:20260422T050058
CREATED:20260107T144526Z
LAST-MODIFIED:20260107T144526Z
UID:56428-1769281200-1769288400@cthumanities.org
SUMMARY:Vintage Broadway Cabaret at Stamford History Center
DESCRIPTION:Step Back in Time with Vintage Broadway Magic \nJoin us for an unforgettable evening as Mel McGuire brings the golden age of Broadway to life in a dazzling Vintage Broadway Cabaret performance. \nIntroducing Mel McGuire’s Vintage Broadway Cabaret January 24th\, from 7:00–9:00 PM at Stamford History Center. \nFrom timeless show tunes to charming storytelling\, this intimate cabaret experience celebrates the elegance\, glamour\, and heart of classic Broadway. Set in the historic ambiance of the Stamford History Center\, it’s the perfect night out for theater lovers\, music fans\, and anyone craving a little old-school sparkle. \nTickets are limited — reserve yours now! Come early\, settle in\, and let the music transport you straight to Broadway’s most iconic eras. \nAn evening of nostalgia\, style\, and show-stopping vocals awaits. Doors open at 6 pm. In true Cabaret style\, bring your own food and drink! \nMel McGuire is a cabaret singer\, personal trainer\, fitness author\, and mom living in Stamford\, CT. As a cabaret performer\, Mel is best known for her autobiographical cabaret show Tinder Roulette which ran at the 13th Street Repertory throughout the fall of 2015 and received rave reviews. \nShe stayed on at 13th Street Repertory as the host and creator of The Overshare Cabaret\, a monthly performance party merging the art forms of cabaret\, sketch comedy\, and personal storytelling. Recent NYC & CT cabaret shows include Don’t Go Into Labor-Day Cabaret\, A Feminist History of Musical Theater\, #Thankful\, and Remembering Barbara Cook. \nMel earned her bachelor’s degree from New York University where she studied musical theater\, she has also studied voice at The Manhattan School of Music and Eastman School of Music. Find out more at www.sexloveandshowtunes.com\, IG: @melercise
URL:https://cthumanities.org/event/vintage-broadway-cabaret-at-stamford-history-center/
LOCATION:Stamford History Center\, 1508 High Ridge Rd.\, Stamford\, CT\, 06903\, United States
CATEGORIES:Activity,January 2026,Performances,Special Events
ATTACH;FMTTYPE=image/png:https://cthumanities.org/wp-content/uploads/2025/12/VintageBroadwayCabaret.png
ORGANIZER;CN="Stamford History Center":MAILTO:info@stamfordhistory.org
END:VEVENT
END:VCALENDAR