BEGIN:VCALENDAR
VERSION:2.0
PRODID:-//CT Humanities - ECPv6.15.17.1//NONSGML v1.0//EN
CALSCALE:GREGORIAN
METHOD:PUBLISH
X-ORIGINAL-URL:https://cthumanities.org
X-WR-CALDESC:Events for CT Humanities
REFRESH-INTERVAL;VALUE=DURATION:PT1H
X-Robots-Tag:noindex
X-PUBLISHED-TTL:PT1H
BEGIN:VTIMEZONE
TZID:America/New_York
BEGIN:DAYLIGHT
TZOFFSETFROM:-0500
TZOFFSETTO:-0400
TZNAME:EDT
DTSTART:20250309T070000
END:DAYLIGHT
BEGIN:STANDARD
TZOFFSETFROM:-0400
TZOFFSETTO:-0500
TZNAME:EST
DTSTART:20251102T060000
END:STANDARD
BEGIN:DAYLIGHT
TZOFFSETFROM:-0500
TZOFFSETTO:-0400
TZNAME:EDT
DTSTART:20260308T070000
END:DAYLIGHT
BEGIN:STANDARD
TZOFFSETFROM:-0400
TZOFFSETTO:-0500
TZNAME:EST
DTSTART:20261101T060000
END:STANDARD
BEGIN:DAYLIGHT
TZOFFSETFROM:-0500
TZOFFSETTO:-0400
TZNAME:EDT
DTSTART:20270314T070000
END:DAYLIGHT
BEGIN:STANDARD
TZOFFSETFROM:-0400
TZOFFSETTO:-0500
TZNAME:EST
DTSTART:20271107T060000
END:STANDARD
END:VTIMEZONE
BEGIN:VEVENT
DTSTART;TZID=America/New_York:20260311T103000
DTEND;TZID=America/New_York:20260311T113000
DTSTAMP:20260421T125052
CREATED:20251217T183848Z
LAST-MODIFIED:20251217T183848Z
UID:56289-1773225000-1773228600@cthumanities.org
SUMMARY:Book Voyagers
DESCRIPTION:Join us for music\, songs\, and stories! Local author\, educator\, musician\, and storyteller Leslie Woods will share her talent and love of books with you and your family. For more information or to register\, contact the library at (860) 447-1411\, or visit https://plnl.org/ .
URL:https://cthumanities.org/event/book-voyagers-3/
LOCATION:Public Library of New London\, 63 Huntington Street\, New London\, CT\, 06320\, United States
CATEGORIES:Book Voyagers,Family Activity,March 2026,Written & Spoken Word
ATTACH;FMTTYPE=image/jpeg:https://cthumanities.org/wp-content/uploads/2025/12/BVBalloon-10.jpg
END:VEVENT
BEGIN:VEVENT
DTSTART;TZID=America/New_York:20260310T140000
DTEND;TZID=America/New_York:20260310T150000
DTSTAMP:20260421T125052
CREATED:20260120T222937Z
LAST-MODIFIED:20260120T222937Z
UID:56911-1773151200-1773154800@cthumanities.org
SUMMARY:“Ultima Ratio Regum:” Henry Knox and the Noble Train (in-person)
DESCRIPTION:Summer 1775: The new leader of the continental army\, George Washington\, is faced with a quandary- the British are pinned inside Boston\, but without artillery\, the colonials were powerless to eject them from the city. Henry Knox\, Boston bookseller and native Southie\, undertakes an amazing winter trek to Lake George to retrieve 60 tons of artillery pieces and bring them to Boston. This talk will discuss the formation of the continental army and the siege of Boston\, but will center on Knox and this amazing march\, legendary in US history. \nBIO: \nHamish Lutris is an Associate Professor of History at Manchester Community College\, and a member of the Winchester Historic Commission. He is a well-known speaker throughout the region with long experience in historical programs. He holds numerous programs celebrating our nation’s history and people across a broad range of topics\, including Native American history\, the US Civil War\, World Wars I and II\, the American West\, as well as Scientific\, Social and cultural history. \nPlease register\, so we can set the community room up with appropriate seating.
URL:https://cthumanities.org/event/ultima-ratio-regum-henry-knox-and-the-noble-train-in-person/
LOCATION:Avon Free Public Library\, 281 Country Club Rd\, Avon\, CT\, 06001\, United States
CATEGORIES:America 250 CT,March 2026,Talks, Lectures, Presentations
ATTACH;FMTTYPE=image/jpeg:https://cthumanities.org/wp-content/uploads/2026/01/Knox.jpg
ORGANIZER;CN="Avon Free Public Library":MAILTO:tpanik@avonctlibrary.info
END:VEVENT
BEGIN:VEVENT
DTSTART;TZID=America/New_York:20260310T120000
DTEND;TZID=America/New_York:20260310T130000
DTSTAMP:20260421T125052
CREATED:20260302T215018Z
LAST-MODIFIED:20260302T215018Z
UID:57488-1773144000-1773147600@cthumanities.org
SUMMARY:Lunch and Learn – Songs of Colonial & Revolutionary America
DESCRIPTION:Free virtual program! The songs of Colonial and Revolutionary America rallied and unified Colonists and Revolutionary soldiers; protested grievances\, proclaimed values\, and impelled action; boosted morale and celebrated victories — and were even used as weapons! \nJoin us as we listen to songs from the Colonial and Revolutionary period\, as music historian Robert Cohen helps us understand the role music played during this period\, and why one chaplain in the Revolutionary army stated that “one good song is worth a dozen addresses or proclamations.” \nFree and open to the public – get tickets today to receive the Zoom link! \nAbout the Speaker:\nRobert Cohen has taught and lectured on American folk & popular music and Jewish music for over a quarter-century\, including at the Fifth Avenue New York Public Library and the New England Conservatory of Music\, New School University and the 92nd St. Y in New York\, the Jewish Theological Seminary and Boston College’s Center for Christian-Jewish Learning\, the Afro-American Historical & Cultural Museum in Philadelphia\, and the Mandell Jewish Community Center of Greater Hartford. He has produced and hosted over 100 radio programs and wrote the NPR documentary\, “One People\, Many Voices: American-Jewish Music Comes of Age\,” and he produced the compilation CD\, Open the Gates! New American-Jewish Music for Prayer.
URL:https://cthumanities.org/event/lunch-and-learn-songs-of-colonial-revolutionary-america/
LOCATION:Virtual
CATEGORIES:March 2026,Talks, Lectures, Presentations,Virtual Event
ATTACH;FMTTYPE=image/jpeg:https://cthumanities.org/wp-content/uploads/2026/03/136207-Lunch-and-Learn-–-Songs-of-Colonial-Revolutionary-America.jpg
ORGANIZER;CN="Connecticut Museum of Culture and History":MAILTO:kmazzacane@connecticutmuseum.org
END:VEVENT
BEGIN:VEVENT
DTSTART;TZID=America/New_York:20260307T123000
DTEND;TZID=America/New_York:20260307T133000
DTSTAMP:20260421T125052
CREATED:20260304T173525Z
LAST-MODIFIED:20260304T173525Z
UID:57636-1772886600-1772890200@cthumanities.org
SUMMARY:By the People / "Sara Margu: A Child of the Amistad"
DESCRIPTION:As “Sara Margu” Tammy Denease portrays the story of one of six children stolen from the shores of Africa\, who\, along with 52 others\, would be held captive on the schooner Amistad. Sara’s poignant voyage from childhood denial to adult autonomy\, highlights this history as well as Connecticut’s. This program is part of the national By the People initiative\, marking the 250th anniversary of the signing of the Declaration of Independence. For more information contact the library at (860) 243-9721\, or visit https://bplct.org/ .
URL:https://cthumanities.org/event/by-the-people-sara-margu-a-child-of-the-amistad/
LOCATION:Prosser Public Library\, One Tunxis Avenue\, Bloomfield\, CT\, 06002\, United States
CATEGORIES:Book Voyagers,March 2026,Performances
ATTACH;FMTTYPE=image/png:https://cthumanities.org/wp-content/uploads/2026/03/By-the-People-Template-FB-Bloomfield-Public-Library.png
END:VEVENT
BEGIN:VEVENT
DTSTART;TZID=America/New_York:20260306T130000
DTEND;TZID=America/New_York:20260306T153000
DTSTAMP:20260421T125052
CREATED:20260213T190929Z
LAST-MODIFIED:20260213T210540Z
UID:57293-1772802000-1772811000@cthumanities.org
SUMMARY:She’s Got to Make This Work: Ella and the Constitution
DESCRIPTION:Experience history in harmony! Join us for a compelling staged reading of She’s Got to Make This Work: Ella and the Constitution\, a musical centered on the 1965 Connecticut Constitutional Convention. This performance offers a theatrical look at a turning point for our state through the eyes of its leaders\, including the legendary Ella Grasso. \n1:00 PM | History Preview: Visit the Museum of Connecticut History at the State Library (across from the Capitol) to view the original Fundamental Orders\, Royal Charter\, and State Constitutions of 1818 and 1965—the very documents that have served as the foundation of Connecticut governance for nearly 400 years. \n2:00 PM | Performance: The performance will be followed by an insightful talk-back with the musical’s creator\, Linda Meyer\, Professor of Law Emerita at Quinnipiac University\, and Allen Ramsey\, CT State Archivist. \nLWVCT is proud to be a CT affiliate organization for America 250. This event is a part of the year-long celebration.
URL:https://cthumanities.org/event/shes-got-to-make-this-work-ella-and-the-constitution/
LOCATION:Connecticut State Capitol\, 210 Capitol Avenue\, Hartford\, CT\, 06106\, United States
CATEGORIES:America 250 CT,March 2026,Performances,Special Events
ATTACH;FMTTYPE=image/png:https://cthumanities.org/wp-content/uploads/2026/02/Shes-Got-to-Make-This-Work-Ella-and-the-Constitution-3.png
ORGANIZER;CN="Connecticut Capitol Information and Tours":MAILTO:Capitol.Tours@cga.ct.gov
END:VEVENT
BEGIN:VEVENT
DTSTART;TZID=America/New_York:20260305T180000
DTEND;TZID=America/New_York:20260305T190000
DTSTAMP:20260421T125052
CREATED:20260107T145251Z
LAST-MODIFIED:20260107T145510Z
UID:56622-1772733600-1772737200@cthumanities.org
SUMMARY:Book Voyagers
DESCRIPTION:Join us for an exciting 4-session book series! “Rise with Resilience: From Struggle to Strength” explores how to manage and navigate the challenges life presents to us through reading and discussing four books. The focus is on resilience; the ability to bounce back\, be flexible and cope. Share your thoughts and ideas with the group as we see if we can increase our resilience together! Program dates are Thursdays at 6PM: March 5\, 12\, 19 and 26\, 2026. Participating families receive a copy of each book\, while supplies last. For more information or to register\, contact the library at (860) 243-9721\, or visit https://bplct.org/ .
URL:https://cthumanities.org/event/book-voyagers-6/
LOCATION:Prosser Public Library\, One Tunxis Avenue\, Bloomfield\, CT\, 06002\, United States
CATEGORIES:Book Voyagers,Discussion,Family Activity,March 2026
ATTACH;FMTTYPE=image/jpeg:https://cthumanities.org/wp-content/uploads/2026/01/BVBalloon-2.jpg
END:VEVENT
BEGIN:VEVENT
DTSTART;TZID=America/New_York:20260303T183000
DTEND;TZID=America/New_York:20260303T193000
DTSTAMP:20260421T125052
CREATED:20260120T222903Z
LAST-MODIFIED:20260120T222903Z
UID:56888-1772562600-1772566200@cthumanities.org
SUMMARY:The Harvey Girl: Virtual Author Event with Dana Stabenow
DESCRIPTION:Join us for a virtual conversation with Dana Stabenow\, to celebrate the release of her new book\, The Harvey Girl. \nFrom the award-winning author of the Kate Shugak Mysteries\, a thrilling new detective series set during America’s wild boom time of the nineteenth century.\n\nWELCOME TO THE GILDED AGE. WHERE NOT EVERYTHING GLITTERS. \n1890. The New Mexico Territory is a lawless frontier where criminals steal money and land alike with impunity. Everyone wears a six-gun and is ready and willing to draw it. \nIn the new city of Montaña Roja\, Fred Harvey’s growing empire is threatened by the robberies plaguing his newest Harvey House restaurant. To get justice\, he needs a skilled detective to go undercover and procure answers to questions the law will not ask. \nThe assignment falls to Clare Wright\, a young Pinkerton agent. Disguised as one of Harvey’s famous hostesses\, Clare travels west where she risks being exposed at every step of her investigation. To get answers – and to get out alive – there are only two things she can trust: her instincts\, and her derringer. \nDana Stabenow was born in Anchorage\, Alaska and raised on a 75-foot fishing tender. She knew there was a warmer\, drier job out there somewhere and found it in writing. Her first book in the bestselling Kate Shugak series\, A Cold Day for Murder\, received an Edgar Award from the Mystery Writers of America.  Follow Dana at stabenow.com \nPlease register; Zoom links will go out the day before the event
URL:https://cthumanities.org/event/the-harvey-girl-virtual-author-event-with-dana-stabenow/
LOCATION:Avon Free Public Library\, 281 Country Club Rd\, Avon\, CT\, 06001\, United States
CATEGORIES:March 2026,Written & Spoken Word
ATTACH;FMTTYPE=image/jpeg:https://cthumanities.org/wp-content/uploads/2026/01/StabenowHarveyGirl.jpg
ORGANIZER;CN="Avon Free Public Library":MAILTO:tpanik@avonctlibrary.info
END:VEVENT
BEGIN:VEVENT
DTSTART;TZID=America/New_York:20260301T140000
DTEND;TZID=America/New_York:20260301T153000
DTSTAMP:20260421T125052
CREATED:20260213T190828Z
LAST-MODIFIED:20260213T190828Z
UID:57311-1772373600-1772379000@cthumanities.org
SUMMARY:A Wonderful Struggle: Local Jewish Women in the Labor Movement
DESCRIPTION:Teachers. Social workers. Secretaries. When we think of women in the labor movement\, these occupations may not come to mind. Yet in New Haven and elsewhere\, women in white-collar and “pink-collar” jobs broke new ground in the 1970s and ’80s by organizing and demanding labor rights. The New Haven Museum (NHM) and Jewish Historical Society of Greater New Haven (JHSGNH) will present the stories of Jewish women in New Haven who fought for labor rights during the 20th century during the Fourth Annual Judith Ann Schiff Women’s History Program\, “A Wonderful Struggle: Local Jewish Women in the Labor Movement\,” on Sunday\, March 1\, 2026\, at 2 p.m. Also streaming on Facebook Live. In the case of inclement weather\, the event will be recorded for social media. Register here. \nIn the words of Edie Bartman Fishman\, who was active in unions ranging from electrical workers to teachers: “Life is a struggle. But it’s a wonderful struggle when you’re fighting for the right things.” Jewish women fought to improve working conditions and pay in Connecticut for more than a century. Some of the women highlighted in the “A Wonderful Struggle” program won landmark victories in fields traditionally considered women’s work. Their stories still reverberate today\, as the United States commemorates its 250th birthday and the Jewish Historical Society of Greater New Haven its 50th. \nIn “A Wonderful Struggle: Local Jewish Women in the Labor Movement\,” we will hear in person and on video from women who participated in the massive New Haven teachers strike of 1975 and in the historic victories of Yale University clerical and technical workers in 1983-84. They will describe the issues that motivated them to join the “wonderful struggle\,” the difficulties they encountered\, what helped them succeed\, the results that followed the strikes and creation of new unions\, and the ways these activities influenced their future work experiences. \nIn addition\, the Nu Haven Kapelye Allstars—Cynthia Astmann\, Dana Astmann\, and Hedda Rubenstein—will perform traditional workers’ songs in both Yiddish and English. \nA collection of items relating to the women highlighted in the program and their work environments will be featured in the Community Case in the New Haven Museum rotunda during the month of March. \nA companion film series\, the 2026 Judith Ann Schiff Women’s History Film Series\, will take place at various locations in the Elm City. View the full film-series schedule here. \nMichael Dimenstein\, co-president of the Jewish Historical Society of Greater New Haven\, notes that many JHSGNH members have been involved in labor issues in their respective careers. “As long-term residents of New Haven\, they are aware of the local labor issues\, strikes\, results\, and work remaining to be done\, and we are happy to share this important discussion with the public.”
URL:https://cthumanities.org/event/a-wonderful-struggle-local-jewish-women-in-the-labor-movement/
LOCATION:New Haven Museum\, 114 Whitney Ave\, New Haven\, CT\, 06510\, United States
CATEGORIES:America 250 CT,March 2026,Talks, Lectures, Presentations
ATTACH;FMTTYPE=image/jpeg:https://cthumanities.org/wp-content/uploads/2026/02/NHM_WomInLabMov26PC_R4-scaled.jpg
END:VEVENT
BEGIN:VEVENT
DTSTART;TZID=America/New_York:20260301T130000
DTEND;TZID=America/New_York:20260301T140000
DTSTAMP:20260421T125052
CREATED:20260206T162557Z
LAST-MODIFIED:20260206T162557Z
UID:57016-1772370000-1772373600@cthumanities.org
SUMMARY:Book Voyagers
DESCRIPTION:Have  you ever wondered what it would feel like to ride behind a team of dogs\, steering a loaded sled through mountainous terrain\, across the vast Alaskan tundra? If so\, join us as author Karen Land shares stories of the trail and the impressive dogs who run it. For more information or to register\, contact the library at (860) 429-3854 or visit https://www.willingtonpubliclibrary.org/ .
URL:https://cthumanities.org/event/book-voyagers-9/
LOCATION:Willington Public Library\, 7 Ruby Road\, Willington\, 06279
CATEGORIES:Book Voyagers,Family Activity,March 2026,Written & Spoken Word
ATTACH;FMTTYPE=image/jpeg:https://cthumanities.org/wp-content/uploads/2026/01/BVBalloon-5.jpg
END:VEVENT
END:VCALENDAR