BEGIN:VCALENDAR
VERSION:2.0
PRODID:-//CT Humanities - ECPv6.15.17.1//NONSGML v1.0//EN
CALSCALE:GREGORIAN
METHOD:PUBLISH
X-ORIGINAL-URL:https://cthumanities.org
X-WR-CALDESC:Events for CT Humanities
REFRESH-INTERVAL;VALUE=DURATION:PT1H
X-Robots-Tag:noindex
X-PUBLISHED-TTL:PT1H
BEGIN:VTIMEZONE
TZID:America/New_York
BEGIN:DAYLIGHT
TZOFFSETFROM:-0500
TZOFFSETTO:-0400
TZNAME:EDT
DTSTART:20250309T070000
END:DAYLIGHT
BEGIN:STANDARD
TZOFFSETFROM:-0400
TZOFFSETTO:-0500
TZNAME:EST
DTSTART:20251102T060000
END:STANDARD
BEGIN:DAYLIGHT
TZOFFSETFROM:-0500
TZOFFSETTO:-0400
TZNAME:EDT
DTSTART:20260308T070000
END:DAYLIGHT
BEGIN:STANDARD
TZOFFSETFROM:-0400
TZOFFSETTO:-0500
TZNAME:EST
DTSTART:20261101T060000
END:STANDARD
BEGIN:DAYLIGHT
TZOFFSETFROM:-0500
TZOFFSETTO:-0400
TZNAME:EDT
DTSTART:20270314T070000
END:DAYLIGHT
BEGIN:STANDARD
TZOFFSETFROM:-0400
TZOFFSETTO:-0500
TZNAME:EST
DTSTART:20271107T060000
END:STANDARD
END:VTIMEZONE
BEGIN:VEVENT
DTSTART;TZID=America/New_York:20260312T120000
DTEND;TZID=America/New_York:20260517T160000
DTSTAMP:20260421T094614
CREATED:20260206T164533Z
LAST-MODIFIED:20260206T164533Z
UID:56664-1773316800-1779033600@cthumanities.org
SUMMARY:Lockwood-Matthews Mansion: Irish American Art in collaboration with Quinnipiac University
DESCRIPTION:On March 12\, 2026\, 12-4 p.m.\, The Lockwood-Mathews Mansion Museum\, in collaboration with Quinnipiac University and Ireland’s Great Hunger Museum of Fairfield\, will inaugurate its 2026 Season with the opening of a new exhibition titled\,  A Journey of Hope: The Irish American Immigrant Experience\, followed by a reception at 5:30-7:30 p.m. generously sponsored by O’Neill’s Irish Pub and Restaurant\, and featuring music from The Shamrogues. The show will run through May 17\, 2026\, and feature paintings and sculptures displayed in the Mansion’s Art Gallery as well as in the Servants’ Quarters. Viewing will be included with the purchase of a guided tour. Please visit www.lockwoodmathewsmansion.com for additional information. \nFormer President of Ireland\, Michael D. Higgin stated that “The Irish Famine of 1845 to 1852 was the greatest social calamity\, in terms of morality and suffering\, that Ireland has ever experienced. From 1845 to 1855\, over 1.5 million people emigrated from Ireland to America searching for a better life. This exhibition will highlight the topic of Irish immigration to America in the 19th century using art as a visual reference. This exhibit will connect directly to the early history of the Mansion\, when most of the domestic staff was Irish and where today’s visitors will have an opportunity to revisit the Servants’ Quarters with an installation of sculptures by Irish American artists. \nIreland’s Great Hunger Museum of Fairfield contains the world’s largest collection of Great Hunger-related art by noted contemporary Irish and Irish American artists as well as several period paintings by some of Ireland’s most important 19th-century artists. Ireland’s Great Hunger Museum of Fairfield exists at the intersection of art\, history\, and moral imagination. Rooted in the story of Ireland\, but speaking to the wider world\, the museum strives to remember what happens when a society turns away from its most vulnerable – and to honor the resilience of those who endure. \nThis exhibition will be curated by Ryan Mahoney who is the Project Manager at the Springfield Museums in Springfield\, MA. A graduate of St. John Fisher College (BA) and the University at Albany (MA)\, Mahoney has over 15-years of experience working in the museum field\, including serving as Executive Director for both the Irish American Heritage Museum in Albany\, NY and Ireland’s Great \nHunger Museum at Quinnipiac University in Hamden\, CT. Active in the Irish American Community\, Mahoney has served as a national board member for the Irish American Cultural Institute and as a board member of the United Irish Societies of the Capital District. He also was an active member of the Albany St. Patrick’s Day Parade Committee. In 2016\, Mahoney was named a recipient of the 40 under 40 Award by the Irish Echo. \nLMMM’s contemporary art exhibits are sponsored in part by Designer/Artist/Author Gail Ingis\, and Kathy Olsen\, CPA.LMMM’s 2026 programs are made possible in part by LMMM’s 2026 Season Distinguished Benefactors: The City of Norwalk\, The Maurice Goodman Foundation\, Inc.\, and Lockwood-Mathews Foundation\, Inc.; LMMM’s Leadership Patrons: Dr. Michele and Attorney Miklos Koleszar; and The Sealark Foundation. For more information on tours and programs\, please visit www.lockwoodmathewsmansion.com\, email info@lockwoodmathewsmansion.com\, or call 203-838-9799.
URL:https://cthumanities.org/event/lockwood-matthews-mansion-irish-american-art-in-collaboration-with-quinnipiac-university/
LOCATION:Lockwood-Mathews Mansion Museum\, 295 West Avenue\, Norwalk\, CT\, 06850\, United States
CATEGORIES:Exhibitions, Tours & Openings,March 2026,Ongoing Exhibits
ATTACH;FMTTYPE=image/jpeg:https://cthumanities.org/wp-content/uploads/2026/01/Tracey_Sweeney_LEAVING_2019_Oil-on-wood.jpg
ORGANIZER;CN="Susan Gilgore":MAILTO:info@lockwoodmathewsmansion.com
END:VEVENT
END:VCALENDAR