BEGIN:VCALENDAR
VERSION:2.0
PRODID:-//CT Humanities - ECPv6.15.17.1//NONSGML v1.0//EN
CALSCALE:GREGORIAN
METHOD:PUBLISH
X-WR-CALNAME:CT Humanities
X-ORIGINAL-URL:https://cthumanities.org
X-WR-CALDESC:Events for CT Humanities
REFRESH-INTERVAL;VALUE=DURATION:PT1H
X-Robots-Tag:noindex
X-PUBLISHED-TTL:PT1H
BEGIN:VTIMEZONE
TZID:America/New_York
BEGIN:DAYLIGHT
TZOFFSETFROM:-0500
TZOFFSETTO:-0400
TZNAME:EDT
DTSTART:20250309T070000
END:DAYLIGHT
BEGIN:STANDARD
TZOFFSETFROM:-0400
TZOFFSETTO:-0500
TZNAME:EST
DTSTART:20251102T060000
END:STANDARD
BEGIN:DAYLIGHT
TZOFFSETFROM:-0500
TZOFFSETTO:-0400
TZNAME:EDT
DTSTART:20260308T070000
END:DAYLIGHT
BEGIN:STANDARD
TZOFFSETFROM:-0400
TZOFFSETTO:-0500
TZNAME:EST
DTSTART:20261101T060000
END:STANDARD
BEGIN:DAYLIGHT
TZOFFSETFROM:-0500
TZOFFSETTO:-0400
TZNAME:EDT
DTSTART:20270314T070000
END:DAYLIGHT
BEGIN:STANDARD
TZOFFSETFROM:-0400
TZOFFSETTO:-0500
TZNAME:EST
DTSTART:20271107T060000
END:STANDARD
END:VTIMEZONE
BEGIN:VEVENT
DTSTART;TZID=America/New_York:20260326T190000
DTEND;TZID=America/New_York:20260326T210000
DTSTAMP:20260421T094720
CREATED:20250930T192554Z
LAST-MODIFIED:20250930T192754Z
UID:55051-1774551600-1774558800@cthumanities.org
SUMMARY:A250 Community Conversation: "Understanding 'Life\, Liberty\, and the Pursuit of Happiness' in 2026"
DESCRIPTION:A Collaboration with Ridgefield Library\nMarch 26\, 2026 · 7 p.m.\nKTM&HC Garden House\nFree \nAmerica250 Community Conversations are facilitated discussions led by Ridgefield Library and Keeler Tavern Museum & History Center staff that focus on increasing familiarity and interaction with the Declaration of Independence. These discussions encourage participants to share\, listen and learn together\, with no prior knowledge about the Declaration or its historical context needed. \nOn March 26\, join us in our Garden House for the third Community Conversation\, “The Declaration at 250: Understanding ‘Life\, Liberty\, and the Pursuit of Happiness’ in 2026.” Using excerpts from the complete Declaration\, we’ll read and discuss one of our nation’s most important political documents\, with a goal of becoming more aware of what the document actually says. Audience participation is encouraged – we want to hear from you! This program is best suited for adults and teenagers. \nCopies of the Declaration of Independence will be available to check out from the Library one month prior to each program\, or you can access a full-text copy online at https://www.archives.gov/founding-docs/declaration-transcript \nCommunity Conversations are funded in part by CT Humanities. Thank you!
URL:https://cthumanities.org/event/a250-community-conversation-understanding-life-liberty-and-the-pursuit-of-happiness-in-2026/
LOCATION:Keeler Tavern Museum\, 132 Main Street\, Ridgefield\, CT\, 06877\, United States
CATEGORIES:America 250 CT,CTH Funded,Discussion,March 2026,Talks, Lectures, Presentations
END:VEVENT
BEGIN:VEVENT
DTSTART;TZID=America/New_York:20260402T180000
DTEND;TZID=America/New_York:20260402T193000
DTSTAMP:20260421T094720
CREATED:20260323T212203Z
LAST-MODIFIED:20260323T212203Z
UID:57914-1775152800-1775158200@cthumanities.org
SUMMARY:The Monthly Slice: A Conversation with Modern Apizza’s Bill Pustari
DESCRIPTION:“Keeping It All in the Family: A Conversation with Modern Apizza’s Bill Pustari\,” will take place on Thursday\, April 2\, 2026\, at 6 pm\, at the New Haven Museum (NHM). The talk is the latest offering in “The Monthly Slice” series of programs at NHM\, presented in conjunction with the ongoing exhibition\, “Pronounced Ah-Beetz.” Free with regular museum admission. Register here. \nModerated by Gorman Bechard\, director of “Pizza A Love Story\,” the discussion offers an opportunity to ask questions of one of the premier pizza makers in the world. Pustari grew up as a pizza man and went to what he likes to call “pizza university.” He bought Modern Apizza in 1988 and turned it into a nationally recognized pizza restaurant. \nModern has consistently been ranked as one of the 10 best pizzerias in the country\, and one of the “Big Three” in New Haven. “Pizza Today” magazine named Modern the 2023 Pizzeria of the Year. Having always kept it a family affair\, Pustari runs Modern with the help of his wife Mary\, and their children\, William and Arianna\, and a dedicated staff\, many of whom have been with Pustari for decades. \nThe “Pronounced Ah-Beetz” exhibition at NHM includes first-hand oral histories and pizza-related artifacts from personal collections\, video footage adapted from the documentary and photographs. The exhibition’s title comes from the way many people mispronounce the word apizza\, which originally grew out of the Italian la pizza. The exhibition will remain on view through October 2027.
URL:https://cthumanities.org/event/the-monthly-slice-a-conversation-with-modern-apizzas-bill-pustari/
LOCATION:New Haven Museum\, 114 Whitney Ave\, New Haven\, CT\, 06510\, United States
CATEGORIES:April 2026,Discussion,Exhibitions, Tours & Openings,Talks, Lectures, Presentations
ATTACH;FMTTYPE=image/jpeg:https://cthumanities.org/wp-content/uploads/2026/03/NHM_MonthlySliceApr_Front-IG.jpg
END:VEVENT
BEGIN:VEVENT
DTSTART;TZID=America/New_York:20260408T183000
DTEND;TZID=America/New_York:20260408T200000
DTSTAMP:20260421T094720
CREATED:20260310T151848Z
LAST-MODIFIED:20260310T151848Z
UID:57762-1775673000-1775678400@cthumanities.org
SUMMARY:An Evening with Author Kat Rosenfield
DESCRIPTION:New York Times-bestselling author Kat Rosenfield will join the Friends on Wednesday\, April 8 from 6:30-8 p.m. in the Friends program room to discuss How to Survive in the Woods her recently published thriller novel. She will be in conversation with New York Times-bestselling mystery author Lynne Constantine. Set in Maine’s Hundred Mile Wilderness—the treacherous final stretch of the storied Appalachian Trail\, this heart-stopping\, psychologically rich tale of passion\, betrayal and control takes readers on a twisty journey deep into Maine’s back country and in the dark minds of an unforgettable cast of characters. “This gripping story will shock readers from the beginning and keep them guessing until the end”— Library Journal. How to Survive in the Woods is being adapted by Amazon MGM for feature film\, with Denise Di Novi (Heathers) producing.
URL:https://cthumanities.org/event/an-evening-with-author-kat-rosenfield/
LOCATION:Simsbury Public Library\, 725 Hopmeadow St.\, Simsbury\, CT\, 06070\, United States
CATEGORIES:April 2026,Discussion,Talks, Lectures, Presentations,Written & Spoken Word
ATTACH;FMTTYPE=image/jpeg:https://cthumanities.org/wp-content/uploads/2026/03/FSPL_2026_Spring_Author_Rosenfield_web.jpg
END:VEVENT
BEGIN:VEVENT
DTSTART;TZID=America/New_York:20260418T140000
DTEND;TZID=America/New_York:20260418T153000
DTSTAMP:20260421T094720
CREATED:20260323T212435Z
LAST-MODIFIED:20260323T212435Z
UID:57918-1776520800-1776526200@cthumanities.org
SUMMARY:The Ride: Paul Revere and the Night That Saved America
DESCRIPTION:“Listen\, my children\, and you shall hear of the midnight ride of Paul Revere… ” On Saturday\, April 18\, 2026—the anniversary of the most famous horse ride in American history —author Kostya Kennedy will visit the New Haven Museum to present little-known aspects of a beloved story in\, “The Ride: Paul Revere and the Night That Saved America\,” based on his book of the same title. The free NHM250 event will be held at 2 p.m. and preceded by a reception at 1:30 p.m. Register here. \nRevere\, a Boston-based silversmith\, engraver\, and staunch anti-British political operative\, inspired the poem and legend of “The Midnight Ride of Paul Revere.” But\, according to Kennedy\, the story of Revere’s ride to warn of approaching British troop is deeper and richer than previously assumed. “That night in in 1775 was 12 hours that changed the world\,” Kennedy says. \nRevere was not the only rider that April night in 1775\, but he was by far the most critical. The patriots’ best and most trusted “express rider\,” he had already completed at least 18 previous rides throughout New England\, disseminating intelligence about British movements. But this ride was like no other\, Kennedy asserts\, and its consequences in the months and years following—as the American Revolution transitioned from isolated skirmishes to a full-fledged war—became one of our founding tales. \n“There’s a layered story to Paul Revere’s ride\, a story that speaks directly to the tenor\, values and resolve of America’s founding\,” Kennedy says. “Without the ride the course of the nation’s history would have begun much differently than it did.” \nWorking from his dramatic new narrative of Revere’s ride\, informed by fresh primary and secondary research into archives\, family letters and diaries\, contemporary accounts\, and more\, Kennedy will show the historic event to be vastly more complex than usually portrayed. It was a coordinated ride of some 40 men that included near-disasters\, capture by British forces\, and ultimately success. While Revere was central to the ride and its plotting\, Kennedy will highlight myriad other men and women who proved crucial to the events that helped set in motion what would lead to America’s independence. He will also dispel some of the myths around the legend\, including that of Revere purportedly saying\, “The British are coming!” during the ride. \nThe notion of acting at great personal risk for a principle much larger than oneself resonates through history. Kennedy notes that today\, groups and individuals across the political spectrum and from any number of societal perspectives still cite Revere\, and his ride\, as inspiration. “It’s another reminder of how relatively small actions\, and a relatively small network of people\, can have an enormous impact\,” he adds.
URL:https://cthumanities.org/event/the-ride-paul-revere-and-the-night-that-saved-america/
LOCATION:New Haven Museum\, 114 Whitney Ave\, New Haven\, CT\, 06510\, United States
CATEGORIES:America 250 CT,April 2026,Discussion,Talks, Lectures, Presentations
ATTACH;FMTTYPE=image/jpeg:https://cthumanities.org/wp-content/uploads/2026/03/04_PortraitoftheArtisan.jpg
END:VEVENT
BEGIN:VEVENT
DTSTART;TZID=America/New_York:20260427T190000
DTEND;TZID=America/New_York:20260427T203000
DTSTAMP:20260421T094720
CREATED:20251001T130304Z
LAST-MODIFIED:20251001T130304Z
UID:55058-1777316400-1777321800@cthumanities.org
SUMMARY:A250 Community Conversation: Ramin Ganeshram Workshop
DESCRIPTION:A Collaboration with Ridgefield Library\nApril 27\, 2026 · 7 p.m.\nRidgefield Library\nFree \nAmerica250 Community Conversations are facilitated discussions led by Ridgefield Library and KTM&HC staff that focus on increasing our community’s familiarity and interaction with the Declaration of Independence. These discussions encourage participants to share\, listen\, and learn together\, with no prior knowledge about the Declaration or its historical context needed. \nThe final program in this series will be led by Ramin Ganeshram\, executive director of the Westport Museum. \nDetails coming soon!
URL:https://cthumanities.org/event/a250-community-conversation-ramin-ganeshram-workshop/
LOCATION:Ridgefield Library\, 472 Main Street\, Ridgefield\, 06877
CATEGORIES:America 250 CT,April 2026,Discussion,Talks, Lectures, Presentations
END:VEVENT
END:VCALENDAR